0.1
0
0
-0.1
630080.415264811
4706545.99795644
