0.1
0
0
-0.1
629235.18114831
4705951.67843147
