0.1
0
0
-0.1
630947.312198216
4705983.66989167
