0.1
0
0
-0.1
630969.112497735
4704827.02536956
