0.1
0
0
-0.1
632648.40414116
4706594.60131115
