0.1
0
0
-0.1
627565.520044472
4703606.61706422
