0.1
0
0
-0.1
626719.721662465
4703012.72011289
