0.1
0
0
-0.1
628411.17980521
4704200.72390651
