0.1
0
0
-0.1
629267.455593913
4704216.72074038
