0.1
0
0
-0.1
629278.209743044
4703638.40433902
