0.1
0
0
-0.1
628432.546485404
4703044.08649519
