0.1
0
0
-0.1
631001.806199749
4703092.07857014
