0.1
0
0
-0.1
628453.91016665
4701887.45207526
