0.1
0
0
-0.1
628464.588757758
4701309.13961204
