0.1
0
0
-0.1
630177.852271794
4701341.14118522
