0.1
0
0
-0.1
629353.475172792
4699590.19313249
