0.1
0
0
-0.1
628517.989539675
4698417.57102903
