0.1
0
0
-0.1
631088.957462295
4698465.53241123
