0.1
0
0
-0.1
628550.022755215
4696682.62482448
