0.1
0
0
-0.1
629407.223041685
4696698.61233887
