0.1
0
0
-0.1
624412.491814921
4735946.29916579
