0.1
0
0
-0.1
626127.793414099
4735399.15692496
