0.1
0
0
-0.1
625306.967213769
4733648.55413099
