0.1
0
0
-0.1
606298.453125402
4749525.91673118
