0.1
0
0
-0.1
605456.77138801
4748934.50482728
