0.1
0
0
-0.1
617494.442321335
4691281.07914779
