0.1
0
0
-0.1
618352.23507199
4691295.58857354
