0.1
0
0
-0.1
619210.029322408
4691310.30799673
