0.1
0
0
-0.1
619219.91664164
4690732.01124232
