0.1
0
0
-0.1
620965.726745523
4689026.56140969
