0.1
0
0
-0.1
622631.082246723
4691948.10357614
