0.1
0
0
-0.1
620985.777381902
4687869.96761488
