0.1
0
0
-0.1
559046.289614789
4704420.3517976
