0.1
0
0
-0.1
565884.105182347
4705638.29649244
