0.1
0
0
-0.1
559912.368384762
4703271.07090175
