0.1
0
0
-0.1
561629.988120579
4702707.79105025
