0.1
0
0
-0.1
560783.777795961
4701543.7109149
