0.1
0
0
-0.1
561640.241683363
4701551.21412894
