0.1
0
0
-0.1
564193.594262822
4703309.24247731
