0.1
0
0
-0.1
564209.625795929
4701574.37856515
