0.1
0
0
-0.1
562501.90462045
4700980.43244437
