0.1
0
0
-0.1
564214.971640523
4700996.08859004
