0.1
0
0
-0.1
566751.18772188
4704489.8769374
