0.1
0
0
-0.1
569319.430434539
4704515.14628582
