0.1
0
0
-0.1
566756.755424126
4703911.57888938
