0.1
0
0
-0.1
570175.511045215
4704523.77794652
