0.1
0
0
-0.1
566773.441535085
4702176.71123223
