0.1
0
0
-0.1
567635.44248345
4701606.84075711
