0.1
0
0
-0.1
569348.320650627
4701623.67357358
