0.1
0
0
-0.1
571043.438752681
4703376.02572556
